BEGIN:VCALENDAR
VERSION:2.0
PRODID:Events Booking
BEGIN:VEVENT
UID:69e5c17ca6b6d
SUMMARY:Waldzmittag
DESCRIPTION:Wir laden Euch ein\, einen feinen Zmittag im Wald zu geniessen.
DTSTART:20220622T100000Z
DTEND:20220622T150000Z
DTSTAMP:20260420T080236Z
ORGANIZER;CN=Elternverein Arni:MAILTO:info@elternverein-arni.ch
END:VEVENT
END:VCALENDAR